BEGIN:VCALENDAR
VERSION:2.0
PRODID:-//Oshkosh Area Community Band - ECPv6.15.20//NONSGML v1.0//EN
CALSCALE:GREGORIAN
METHOD:PUBLISH
X-WR-CALNAME:Oshkosh Area Community Band
X-ORIGINAL-URL:https://www.oacb.org
X-WR-CALDESC:Events for Oshkosh Area Community Band
REFRESH-INTERVAL;VALUE=DURATION:PT1H
X-Robots-Tag:noindex
X-PUBLISHED-TTL:PT1H
BEGIN:VTIMEZONE
TZID:America/Chicago
BEGIN:DAYLIGHT
TZOFFSETFROM:-0600
TZOFFSETTO:-0500
TZNAME:CDT
DTSTART:20250309T080000
END:DAYLIGHT
BEGIN:STANDARD
TZOFFSETFROM:-0500
TZOFFSETTO:-0600
TZNAME:CST
DTSTART:20251102T070000
END:STANDARD
BEGIN:DAYLIGHT
TZOFFSETFROM:-0600
TZOFFSETTO:-0500
TZNAME:CDT
DTSTART:20260308T080000
END:DAYLIGHT
BEGIN:STANDARD
TZOFFSETFROM:-0500
TZOFFSETTO:-0600
TZNAME:CST
DTSTART:20261101T070000
END:STANDARD
BEGIN:DAYLIGHT
TZOFFSETFROM:-0600
TZOFFSETTO:-0500
TZNAME:CDT
DTSTART:20270314T080000
END:DAYLIGHT
BEGIN:STANDARD
TZOFFSETFROM:-0500
TZOFFSETTO:-0600
TZNAME:CST
DTSTART:20271107T070000
END:STANDARD
END:VTIMEZONE
BEGIN:VEVENT
DTSTART;TZID=America/Chicago:20260321T190000
DTEND;TZID=America/Chicago:20260321T203000
DTSTAMP:20260422T051618
CREATED:20250806T182838Z
LAST-MODIFIED:20251031T163141Z
UID:1652-1774119600-1774125000@www.oacb.org
SUMMARY:2026 Spring Concert
DESCRIPTION:
URL:https://www.oacb.org/event/spring-concert-5/
LOCATION:Alberta Kimball Auditorium\, 375 North Eagle Street\, Oshkosh\, WI\, 54901\, United States
END:VEVENT
BEGIN:VEVENT
DTSTART;TZID=America/Chicago:20260610T190000
DTEND;TZID=America/Chicago:20260610T203000
DTSTAMP:20260422T051618
CREATED:20260122T164144Z
LAST-MODIFIED:20260122T164144Z
UID:1669-1781118000-1781123400@www.oacb.org
SUMMARY:Summer Concert Series
DESCRIPTION:
URL:https://www.oacb.org/event/summer-concert-series/
LOCATION:Alberta Kimball Auditorium\, 375 North Eagle Street\, Oshkosh\, WI\, 54901\, United States
END:VEVENT
BEGIN:VEVENT
DTSTART;TZID=America/Chicago:20260624T190000
DTEND;TZID=America/Chicago:20260624T203000
DTSTAMP:20260422T051618
CREATED:20260122T165124Z
LAST-MODIFIED:20260122T165124Z
UID:1670-1782327600-1782333000@www.oacb.org
SUMMARY:Summer Concert Series
DESCRIPTION:
URL:https://www.oacb.org/event/summer-concert-series-2/
LOCATION:Alberta Kimball Auditorium\, 375 North Eagle Street\, Oshkosh\, WI\, 54901\, United States
END:VEVENT
BEGIN:VEVENT
DTSTART;TZID=America/Chicago:20260708T190000
DTEND;TZID=America/Chicago:20260708T203000
DTSTAMP:20260422T051618
CREATED:20260122T165238Z
LAST-MODIFIED:20260122T165238Z
UID:1671-1783537200-1783542600@www.oacb.org
SUMMARY:Summer Concert Series
DESCRIPTION:
URL:https://www.oacb.org/event/summer-concert-series-3/
LOCATION:Alberta Kimball Auditorium\, 375 North Eagle Street\, Oshkosh\, WI\, 54901\, United States
END:VEVENT
BEGIN:VEVENT
DTSTART;TZID=America/Chicago:20260722T190000
DTEND;TZID=America/Chicago:20260722T203000
DTSTAMP:20260422T051618
CREATED:20260122T165344Z
LAST-MODIFIED:20260122T165344Z
UID:1672-1784746800-1784752200@www.oacb.org
SUMMARY:Summer Concert Series
DESCRIPTION:
URL:https://www.oacb.org/event/summer-concert-series-4/
LOCATION:Alberta Kimball Auditorium\, 375 North Eagle Street\, Oshkosh\, WI\, 54901\, United States
END:VEVENT
BEGIN:VEVENT
DTSTART;TZID=America/Chicago:20261107T190000
DTEND;TZID=America/Chicago:20261107T203000
DTSTAMP:20260422T051618
CREATED:20260122T165447Z
LAST-MODIFIED:20260122T165640Z
UID:1673-1794078000-1794083400@www.oacb.org
SUMMARY:Fall Concert
DESCRIPTION:
URL:https://www.oacb.org/event/fall-concert-7/
LOCATION:Alberta Kimball Auditorium\, 375 North Eagle Street\, Oshkosh\, WI\, 54901\, United States
END:VEVENT
END:VCALENDAR